{ "cimVersion": "3.0.0", "serviceDescription": "
UAE Political Map<\/SPAN><\/P><\/DIV>",
"mapName": "MG_SL3_City_Mapping_AR",
"description": " UAE Political Map<\/SPAN><\/P><\/DIV>",
"copyrightText": "",
"supportsDynamicLayers": false,
"layers": [
{
"id": 97,
"name": "Annotation",
"parentLayerId": -1,
"defaultVisibility": true,
"subLayerIds": [
96,
8,
7
],
"minScale": 0,
"maxScale": 0,
"type": "Group Layer",
"supportsDynamicLegends": false
},
{
"id": 96,
"name": "Annotation",
"parentLayerId": 97,
"defaultVisibility": true,
"subLayerIds": [
113,
102
],
"minScale": 0,
"maxScale": 0,
"type": "Group Layer",
"supportsDynamicLegends": false
},
{
"id": 113,
"name": "UAE Towns",
"parentLayerId": 96,
"defaultVisibility": true,
"subLayerIds": null,
"minScale": 100000,
"maxScale": 0,
"type": "Feature Layer",
"geometryType": "esriGeometryPoint",
"supportsDynamicLegends": true
},
{
"id": 102,
"name": "ArabicBlackAnnotation",
"parentLayerId": 96,
"defaultVisibility": true,
"subLayerIds": null,
"minScale": 350000,
"maxScale": 0,
"type": "Feature Layer",
"geometryType": "esriGeometryPoint",
"supportsDynamicLegends": true
},
{
"id": 8,
"name": "GCC Labels - Saudi Arabia & Oman",
"parentLayerId": 97,
"defaultVisibility": true,
"subLayerIds": null,
"minScale": 0,
"maxScale": 0,
"type": "Feature Layer",
"geometryType": "esriGeometryPoint",
"supportsDynamicLegends": true
},
{
"id": 7,
"name": "GCC Labels - UAE & Oman",
"parentLayerId": 97,
"defaultVisibility": true,
"subLayerIds": null,
"minScale": 0,
"maxScale": 0,
"type": "Feature Layer",
"geometryType": "esriGeometryPoint",
"supportsDynamicLegends": true
},
{
"id": 93,
"name": "Point of Intrest",
"parentLayerId": -1,
"defaultVisibility": true,
"subLayerIds": [
89,
1
],
"minScale": 0,
"maxScale": 0,
"type": "Group Layer",
"supportsDynamicLegends": false
},
{
"id": 89,
"name": "POI_Airport",
"parentLayerId": 93,
"defaultVisibility": true,
"subLayerIds": null,
"minScale": 140000,
"maxScale": 0,
"type": "Feature Layer",
"geometryType": "esriGeometryPoint",
"supportsDynamicLegends": true
},
{
"id": 1,
"name": "POIs",
"parentLayerId": 93,
"defaultVisibility": true,
"subLayerIds": null,
"minScale": 0,
"maxScale": 0,
"type": "Feature Layer",
"geometryType": "esriGeometryPoint",
"supportsDynamicLegends": true
},
{
"id": 94,
"name": "Trees",
"parentLayerId": -1,
"defaultVisibility": true,
"subLayerIds": [
88,
95
],
"minScale": 0,
"maxScale": 0,
"type": "Group Layer",
"supportsDynamicLegends": false
},
{
"id": 88,
"name": "PALM_TREE",
"parentLayerId": 94,
"defaultVisibility": true,
"subLayerIds": null,
"minScale": 120000,
"maxScale": 0,
"type": "Feature Layer",
"geometryType": "esriGeometryPoint",
"supportsDynamicLegends": true
},
{
"id": 95,
"name": "TREE",
"parentLayerId": 94,
"defaultVisibility": true,
"subLayerIds": null,
"minScale": 60000,
"maxScale": 0,
"type": "Feature Layer",
"geometryType": "esriGeometryPoint",
"supportsDynamicLegends": true
},
{
"id": 92,
"name": "Transportaion",
"parentLayerId": -1,
"defaultVisibility": true,
"subLayerIds": [
82,
80,
81,
112,
108,
84,
109,
104,
110,
83,
111,
76
],
"minScale": 0,
"maxScale": 0,
"type": "Group Layer",
"supportsDynamicLegends": false
},
{
"id": 82,
"name": "Dubai_MetroStation_Depot",
"parentLayerId": 92,
"defaultVisibility": true,
"subLayerIds": null,
"minScale": 40000.00000000001,
"maxScale": 0,
"type": "Feature Layer",
"geometryType": "esriGeometryPoint",
"supportsDynamicLegends": true
},
{
"id": 80,
"name": "Dubai_Metro_Netwrork",
"parentLayerId": 92,
"defaultVisibility": true,
"subLayerIds": null,
"minScale": 350000,
"maxScale": 0,
"type": "Feature Layer",
"geometryType": "esriGeometryPolyline",
"supportsDynamicLegends": true
},
{
"id": 81,
"name": "Dubai_Tram_Lines",
"parentLayerId": 92,
"defaultVisibility": true,
"subLayerIds": null,
"minScale": 350000,
"maxScale": 0,
"type": "Feature Layer",
"geometryType": "esriGeometryPolyline",
"supportsDynamicLegends": true
},
{
"id": 112,
"name": "Etihad Railway Track",
"parentLayerId": 92,
"defaultVisibility": true,
"subLayerIds": null,
"minScale": 350000,
"maxScale": 0,
"type": "Feature Layer",
"geometryType": "esriGeometryPolyline",
"supportsDynamicLegends": true
},
{
"id": 108,
"name": "Roads",
"parentLayerId": 92,
"defaultVisibility": true,
"subLayerIds": null,
"minScale": 7000,
"maxScale": 0,
"type": "Feature Layer",
"geometryType": "esriGeometryPolyline",
"supportsDynamicLegends": true
},
{
"id": 84,
"name": "Roads",
"parentLayerId": 92,
"defaultVisibility": true,
"subLayerIds": null,
"minScale": 7000,
"maxScale": 0,
"type": "Feature Layer",
"geometryType": "esriGeometryPolyline",
"supportsDynamicLegends": true
},
{
"id": 109,
"name": "Roads",
"parentLayerId": 92,
"defaultVisibility": true,
"subLayerIds": null,
"minScale": 20000.000000000004,
"maxScale": 7000,
"type": "Feature Layer",
"geometryType": "esriGeometryPolyline",
"supportsDynamicLegends": true
},
{
"id": 104,
"name": "Roads",
"parentLayerId": 92,
"defaultVisibility": true,
"subLayerIds": null,
"minScale": 20000.000000000004,
"maxScale": 7000,
"type": "Feature Layer",
"geometryType": "esriGeometryPolyline",
"supportsDynamicLegends": true
},
{
"id": 110,
"name": "Roads",
"parentLayerId": 92,
"defaultVisibility": true,
"subLayerIds": null,
"minScale": 40000.00000000001,
"maxScale": 20000.000000000004,
"type": "Feature Layer",
"geometryType": "esriGeometryPolyline",
"supportsDynamicLegends": true
},
{
"id": 83,
"name": "Roads",
"parentLayerId": 92,
"defaultVisibility": true,
"subLayerIds": null,
"minScale": 40000.00000000001,
"maxScale": 20000.000000000004,
"type": "Feature Layer",
"geometryType": "esriGeometryPolyline",
"supportsDynamicLegends": true
},
{
"id": 111,
"name": "Roads",
"parentLayerId": 92,
"defaultVisibility": true,
"subLayerIds": null,
"minScale": 350000,
"maxScale": 40000.00000000001,
"type": "Feature Layer",
"geometryType": "esriGeometryPolyline",
"supportsDynamicLegends": true
},
{
"id": 76,
"name": "Roads",
"parentLayerId": 92,
"defaultVisibility": true,
"subLayerIds": null,
"minScale": 350000,
"maxScale": 40000.00000000001,
"type": "Feature Layer",
"geometryType": "esriGeometryPolyline",
"supportsDynamicLegends": true
},
{
"id": 91,
"name": "Vegetation Cover",
"parentLayerId": -1,
"defaultVisibility": true,
"subLayerIds": [
114,
87,
86,
58
],
"minScale": 0,
"maxScale": 0,
"type": "Group Layer",
"supportsDynamicLegends": false
},
{
"id": 114,
"name": "Mangroves",
"parentLayerId": 91,
"defaultVisibility": true,
"subLayerIds": null,
"minScale": 350000,
"maxScale": 0,
"type": "Feature Layer",
"geometryType": "esriGeometryPolygon",
"supportsDynamicLegends": true
},
{
"id": 87,
"name": "PLANTATION_TREE",
"parentLayerId": 91,
"defaultVisibility": true,
"subLayerIds": null,
"minScale": 10000.000000000002,
"maxScale": 0,
"type": "Feature Layer",
"geometryType": "esriGeometryPolygon",
"supportsDynamicLegends": true
},
{
"id": 86,
"name": "PLANTATION_FRUIT",
"parentLayerId": 91,
"defaultVisibility": true,
"subLayerIds": null,
"minScale": 100000,
"maxScale": 0,
"type": "Feature Layer",
"geometryType": "esriGeometryPolygon",
"supportsDynamicLegends": true
},
{
"id": 58,
"name": "Vegetation",
"parentLayerId": 91,
"defaultVisibility": true,
"subLayerIds": null,
"minScale": 350000,
"maxScale": 0,
"type": "Feature Layer",
"geometryType": "esriGeometryPolygon",
"supportsDynamicLegends": true
},
{
"id": 71,
"name": "Physio&Human",
"parentLayerId": -1,
"defaultVisibility": true,
"subLayerIds": [
37,
70
],
"minScale": 0,
"maxScale": 0,
"type": "Group Layer",
"supportsDynamicLegends": false
},
{
"id": 37,
"name": "Buildings",
"parentLayerId": 71,
"defaultVisibility": true,
"subLayerIds": null,
"minScale": 7000,
"maxScale": 0,
"type": "Feature Layer",
"geometryType": "esriGeometryPolygon",
"supportsDynamicLegends": true
},
{
"id": 70,
"name": "Builtup_Area",
"parentLayerId": 71,
"defaultVisibility": true,
"subLayerIds": null,
"minScale": 350000,
"maxScale": 10000.000000000002,
"type": "Feature Layer",
"geometryType": "esriGeometryPolygon",
"supportsDynamicLegends": true
},
{
"id": 0,
"name": "Basic_Layers",
"parentLayerId": -1,
"defaultVisibility": true,
"subLayerIds": [
107,
10,
12,
45
],
"minScale": 0,
"maxScale": 0,
"type": "Group Layer",
"supportsDynamicLegends": false
},
{
"id": 107,
"name": "CoastLine",
"parentLayerId": 0,
"defaultVisibility": true,
"subLayerIds": null,
"minScale": 0,
"maxScale": 0,
"type": "Feature Layer",
"geometryType": "esriGeometryPolyline",
"supportsDynamicLegends": true
},
{
"id": 10,
"name": "International Boundary",
"parentLayerId": 0,
"defaultVisibility": true,
"subLayerIds": null,
"minScale": 350000,
"maxScale": 0,
"type": "Feature Layer",
"geometryType": "esriGeometryPolyline",
"supportsDynamicLegends": true
},
{
"id": 12,
"name": "UAE Country",
"parentLayerId": 0,
"defaultVisibility": true,
"subLayerIds": null,
"minScale": 350000,
"maxScale": 0,
"type": "Feature Layer",
"geometryType": "esriGeometryPolygon",
"supportsDynamicLegends": true
},
{
"id": 45,
"name": "Ocean",
"parentLayerId": 0,
"defaultVisibility": true,
"subLayerIds": null,
"minScale": 0,
"maxScale": 0,
"type": "Feature Layer",
"geometryType": "esriGeometryPolygon",
"supportsDynamicLegends": true
}
],
"tables": [],
"spatialReference": {
"wkid": 102100,
"latestWkid": 3857,
"xyTolerance": 0.001,
"zTolerance": 0.001,
"mTolerance": 0.001,
"falseX": -20037700,
"falseY": -30241100,
"xyUnits": 10000,
"falseZ": -100000,
"zUnits": 10000,
"falseM": -100000,
"mUnits": 10000
},
"singleFusedMapCache": true,
"tileInfo": {
"rows": 256,
"cols": 256,
"dpi": 96,
"format": "PNG",
"compressionQuality": 0,
"origin": {
"x": -2.0037508342787E7,
"y": 2.0037508342787E7
},
"spatialReference": {
"wkid": 102100,
"latestWkid": 3857,
"xyTolerance": 0.001,
"zTolerance": 0.001,
"mTolerance": 0.001,
"falseX": -20037700,
"falseY": -30241100,
"xyUnits": 1.4892314192838538E8,
"falseZ": -100000,
"zUnits": 10000,
"falseM": -100000,
"mUnits": 10000
},
"lods": [
{
"level": 0,
"resolution": 156543.033928,
"scale": 5.91657527591555E8
},
{
"level": 1,
"resolution": 78271.5169639999,
"scale": 2.95828763795777E8
},
{
"level": 2,
"resolution": 39135.7584820001,
"scale": 1.47914381897889E8
},
{
"level": 3,
"resolution": 19567.8792409999,
"scale": 7.3957190948944E7
},
{
"level": 4,
"resolution": 9783.93962049996,
"scale": 3.6978595474472E7
},
{
"level": 5,
"resolution": 4891.96981024998,
"scale": 1.8489297737236E7
},
{
"level": 6,
"resolution": 2445.98490512499,
"scale": 9244648.868618
},
{
"level": 7,
"resolution": 1222.99245256249,
"scale": 4622324.434309
},
{
"level": 8,
"resolution": 611.49622628138,
"scale": 2311162.217155
},
{
"level": 9,
"resolution": 305.748113140558,
"scale": 1155581.108577
},
{
"level": 10,
"resolution": 152.874056570411,
"scale": 577790.554289
},
{
"level": 11,
"resolution": 76.4370282850732,
"scale": 288895.277144
},
{
"level": 12,
"resolution": 38.2185141425366,
"scale": 144447.638572
},
{
"level": 13,
"resolution": 19.1092570712683,
"scale": 72223.819286
},
{
"level": 14,
"resolution": 9.55462853563415,
"scale": 36111.909643
},
{
"level": 15,
"resolution": 4.77731426794937,
"scale": 18055.954822
},
{
"level": 16,
"resolution": 2.38865713397468,
"scale": 9027.977411
},
{
"level": 17,
"resolution": 1.19432856685505,
"scale": 4513.988705
},
{
"level": 18,
"resolution": 0.597164283559817,
"scale": 2256.994353
},
{
"level": 19,
"resolution": 0.298582141647617,
"scale": 1128.497176
},
{
"level": 20,
"resolution": 0.14929107082380833,
"scale": 564.248588
},
{
"level": 21,
"resolution": 0.07464553541190416,
"scale": 282.124294
},
{
"level": 22,
"resolution": 0.03732276770595208,
"scale": 141.062147
},
{
"level": 23,
"resolution": 0.01866138385297604,
"scale": 70.5310735
}
]
},
"storageInfo": {
"storageFormat": "esriMapCacheStorageModeCompactV2",
"packetSize": 128
},
"initialExtent": {
"xmin": 6067503.881812762,
"ymin": 2798372.691226577,
"xmax": 6087675.755489842,
"ymax": 2808109.377366616,
"spatialReference": {
"cs": "pcs",
"wkid": 102100
}
},
"fullExtent": {
"xmin": 5733507.217599999,
"ymin": 2587516.6534999977,
"xmax": 6276382.006299999,
"ymax": 3034095.880899998,
"spatialReference": {
"cs": "pcs",
"wkid": 102100
}
},
"datesInUnknownTimezone": false,
"units": "esriMeters",
"supportedImageFormatTypes": "PNG32,PNG24,PNG,JPG,DIB,TIFF,EMF,PS,PDF,GIF,SVG,SVGZ,BMP",
"documentInfo": {
"Title": "UAE Political Map",
"Author": "",
"Comments": " UAE Political Map<\/SPAN><\/P><\/DIV>",
"Subject": "UAE Political Map",
"Category": "",
"Version": "2.9.0",
"AntialiasingMode": "Fast",
"TextAntialiasingMode": "Force",
"Keywords": "UAE"
},
"supportedQueryFormats": "JSON, geoJSON, PBF",
"referenceScale": 300000.0,
"supportsDatumTransformation": true,
"floorAwareMapProperties": {
"defaultFloorFilterSettings": {"isEnabled": true}
},
"archivingInfo": {"supportsHistoricMoment": false},
"supportsClipping": true,
"supportsSpatialFilter": true,
"supportsTimeRelation": true,
"supportsQueryDataElements": true,
"maxRecordCount": 1000,
"maxImageHeight": 4096,
"maxImageWidth": 4096,
"minScale": 577790.554289,
"maxScale": 2256.994353,
"exportTilesAllowed": false,
"maxExportTilesCount": 100000,
"currentVersion": 12.9,
"capabilities": "TilesOnly,Tilemap",
"minLOD": 10,
"maxLOD": 18,
"supportedExtensions": "",
"serviceItemId": "9bc0332e69d647e4bcbc29250f5b71f2"
}